Workbook

Sheet Resumen
A1: =Gral!A1 -> E22-0001 | C1: CRITERIOS DE VALORACIÓN TÉCNICA | H1: VALORACIÓN TÉCNICA
B2: EMPRESA / UTE | C2: 2. CUALIFICACIÓN Y EXPERIENCIA PROFESIONAL Y DOCENTE (60%) | H2: VT
C3: 2.1. Cualificación profesional (20%) | D3: 2.2. Experiencia como Docente (15%) | E3: 2.3. Experiencia profesional adicional a la exigida en PPT como asesor en materia de contratación pública (15%) | F3: 2.4. Publicaciones en revistas, blogs de contratación, autoría de libros, etc., relacionadas con el objeto del contrato (7%). | G3: 2.5. Colaboración internacional del consultor/a (3%) | J3: OBSERVACIONES:
A4: 1 | B4: ARAÚJO&BENETTI | C4: =Gral!C4 -> 15 | D4: =Gral!C5 -> 0.72 | E4: =Gral!C6 -> 0 | F4: =Gral!C7 -> 2.8 | G4: =Gral!C8 -> 0 | H4: =SUM(C4:G5) -> 18.52 | I4: =IF(H4<=36,"NO ACEPTABLE","ACEPTABLE") -> NO ACEPTABLE
A6: 2 | B6: EGUESAN ENERGY, S.L | C6: =Gral!D4 -> 0 | D6: =Gral!D5 -> 2.031 | E6: =Gral!D6 -> 10.7145 | F6: =Gral!D7 -> 0 | G6: =Gral!D8 -> 3 | H6: =SUM(C6:G7) -> 15.7455 | I6: =IF(H6<=36,"NO ACEPTABLE","ACEPTABLE") -> NO ACEPTABLE
A8: 3 | B8: LACASA ABOGADOS | C8: =Gral!E4 -> 20 | D8: =Gral!E5 -> 0.5895 | E8: =Gral!E6 -> 0 | F8: =Gral!E7 -> 3.5 | G8: =Gral!E8 -> 0 | H8: =SUM(C8:G9) -> 24.0895 | I8: =IF(H8<=36,"NO ACEPTABLE","ACEPTABLE") -> NO ACEPTABLE
A10: 4 | B10: MONTALVO ASOCIADOS | C10: =Gral!F4 -> 20 | D10: =Gral!F5 -> 0.5895 | E10: =Gral!F6 -> 0 | F10: =Gral!F7 -> 0 | G10: =Gral!F8 -> 0 | H10: =SUM(C10:G11) -> 20.5895 | I10: =IF(H10<=36,"NO ACEPTABLE","ACEPTABLE") -> NO ACEPTABLE
A12: 5 | B12: VAN BEVEREN | C12: =Gral!G4 -> 20 | D12: =Gral!G5 -> 2.358 | E12: =Gral!G6 -> 0 | F12: =Gral!G7 -> 7 | G12: =Gral!G8 -> 3 | H12: =SUM(C12:G13) -> 32.358 | I12: =IF(H12<=36,"NO ACEPTABLE","ACEPTABLE") -> NO ACEPTABLE
A14: 6 | B14: JAVIER VÁZQUEZ | C14: =Gral!H4 -> 20 | D14: =Gral!H5 -> 15 | E14: =Gral!H6 -> 15 | F14: =Gral!H7 -> 7 | G14: =Gral!H8 -> 3 | H14: =SUM(C14:G15) -> 60 | I14: =IF(H14<=36,"NO ACEPTABLE","ACEPTABLE") -> ACEPTABLE
A16: 7 | B16: yKsios DIGITAL GROWTH | C16: =Gral!I4 -> 20 | D16: =Gral!I5 -> 3.4065 | E16: =Gral!I6 -> 15 | F16: =Gral!I7 -> 7 | G16: =Gral!I8 -> 3 | H16: =SUM(C16:G17) -> 48.4065 | I16: =IF(H16<=36,"NO ACEPTABLE","ACEPTABLE") -> ACEPTABLE
B19: INACEPTABLE < 36
B20: SUFICIENTE > = 36

Sheet Gral
A1: E22-0001
A2: SERVICIO DE ASISTENCIA TÉCNICA ESPECIALIZADA EN CONTRATACIÓN PÚBLICA PARA LA AUTORIDAD PORTUARIA DE BALEARES | B2: Peso | C2: =Resumen!B4 -> ARAÚJO&BENETTI | D2: =Resumen!B6 -> EGUESAN ENERGY, S.L | E2: =Resumen!B8 -> LACASA ABOGADOS | F2: =Resumen!B10 -> MONTALVO ASOCIADOS | G2: =Resumen!B12 -> VAN BEVEREN | H2: =Resumen!B14 -> JAVIER VÁZQUEZ | I2: =Resumen!B16 -> yKsios DIGITAL GROWTH
A3: 2. CUALIFICACIÓN Y EXPERIENCIA PROFESIONAL Y DOCENTE (60%) | B3: =SUM(B4:B8) -> 60 | C3: =SUM(C4:C8) -> 18.52 | D3: =SUM(D4:D8) -> 15.7455 | E3: =SUM(E4:E8) -> 24.0895 | F3: =SUM(F4:F8) -> 20.5895 | G3: =SUM(G4:G8) -> 32.358 | H3: =SUM(H4:H8) -> 60 | I3: =SUM(I4:I8) -> 48.4065
A4: 2.1. Cualificación profesional (20%) | B4: 20 | C4: =(Desglosado_subcriterios!D5*Gral!$B$4)/100 -> 15 | D4: =(Desglosado_subcriterios!F5*Gral!$B$4)/100 -> 0 | E4: =(Desglosado_subcriterios!H5*Gral!$B$4)/100 -> 20 | F4: =(Desglosado_subcriterios!J5*Gral!$B$4)/100 -> 20 | G4: =(Desglosado_subcriterios!L5*Gral!$B$4)/100 -> 20 | H4: =(Desglosado_subcriterios!N5*Gral!$B$4)/100 -> 20 | I4: =(Desglosado_subcriterios!P5*Gral!$B$4)/100 -> 20
A5: 2.2. Experiencia como Docente (15%) | B5: 15 | C5: =(Desglosado_subcriterios!D7*Gral!$B$5)/100 -> 0.72 | D5: =(Desglosado_subcriterios!F7*Gral!$B$5)/100 -> 2.031 | E5: =(Desglosado_subcriterios!H7*Gral!$B$5)/100 -> 0.5895 | F5: =(Desglosado_subcriterios!J7*Gral!$B$5)/100 -> 0.5895 | G5: =(Desglosado_subcriterios!L7*Gral!$B$5)/100 -> 2.358 | H5: =(Desglosado_subcriterios!N7*Gral!$B$5)/100 -> 15 | I5: =(Desglosado_subcriterios!P7*Gral!$B$5)/100 -> 3.4065
A6: 2.3. Experiencia profesional adicional a la exigida en PPT como asesor en materia de contratación pública (15%) | B6: 15 | C6: =(Desglosado_subcriterios!D10*Gral!$B$6)/100 -> 0 | D6: =(Desglosado_subcriterios!F10*Gral!$B$6)/100 -> 10.7145 | E6: =(Desglosado_subcriterios!H10*Gral!$B$6)/100 -> 0 | F6: =(Desglosado_subcriterios!J10*Gral!$B$6)/100 -> 0 | G6: =(Desglosado_subcriterios!L10*Gral!$B$6)/100 -> 0 | H6: =(Desglosado_subcriterios!N10*Gral!$B$6)/100 -> 15 | I6: =(Desglosado_subcriterios!P10*Gral!$B$6)/100 -> 15
A7: 2.4. Publicaciones en revistas, blogs de contratación, autoría de libros, etc., relacionadas con el objeto del contrato (7%). | B7: 7 | C7: =(Desglosado_subcriterios!D11*Gral!$B$7)/100 -> 2.8 | D7: =(Desglosado_subcriterios!F11*Gral!$B$7)/100 -> 0 | E7: =(Desglosado_subcriterios!H11*Gral!$B$7)/100 -> 3.5 | F7: =(Desglosado_subcriterios!J11*Gral!$B$7)/100 -> 0 | G7: =(Desglosado_subcriterios!L11*Gral!$B$7)/100 -> 7 | H7: =(Desglosado_subcriterios!N11*Gral!$B$7)/100 -> 7 | I7: =(Desglosado_subcriterios!P11*Gral!$B$7)/100 -> 7
A8: 2.5. Colaboración internacional del consultor/a (3%) | B8: 3 | C8: =(Desglosado_subcriterios!D13*Gral!$B$8)/100 -> 0 | D8: =(Desglosado_subcriterios!F13*Gral!$B$8)/100 -> 3 | E8: =(Desglosado_subcriterios!H13*Gral!$B$8)/100 -> 0 | F8: =(Desglosado_subcriterios!J13*Gral!$B$8)/100 -> 0 | G8: =(Desglosado_subcriterios!L13*Gral!$B$8)/100 -> 3 | H8: =(Desglosado_subcriterios!N13*Gral!$B$8)/100 -> 3 | I8: =(Desglosado_subcriterios!P13*Gral!$B$8)/100 -> 3
A9: Valoración Técnica VT
A11: PUNTUACIÓN ORDINAL | C11: =_xlfn.RANK.EQ(C9,$C$9:$C$9) -> #N/A
A16: NOTA ACLARATORIA: La redacción de este informe busca informar sobre la evaluación de la documentación aportada por los licitadores mediante los criterios automaticos relacionados con la calidad (2. CUALIFICACIÓN Y EXPERIENCIA PROFESIONAL Y DOCENTE), ya que su puntuación depende de la correcta acreditación de lo ofertado por los licitadores mediante los documentos requeridos en c/u de los criterios como indica el Pliego y no solamente de lo ofertado en la plataforma de contratación. Ademas, de que las ofertas se clasificaran como aceptables y no aceptables de conformidad con el art.146.3 LCSP.

Sheet Desglosado_subcriterios
A1: =Gral!A1 -> E22-0001 | D1: =Gral!C2 -> ARAÚJO&BENETTI | F1: =Gral!D2 -> EGUESAN ENERGY, S.L | H1: =Gral!E2 -> LACASA ABOGADOS | J1: =Gral!F2 -> MONTALVO ASOCIADOS | L1: =Gral!G2 -> VAN BEVEREN | N1: =Gral!H2 -> JAVIER VÁZQUEZ | P1: =Gral!I2 -> yKsios DIGITAL GROWTH
A2: =+Gral!A2 -> SERVICIO DE ASISTENCIA TÉCNICA ESPECIALIZADA EN CONTRATACIÓN PÚBLICA PARA LA AUTORIDAD PORTUARIA DE BALEARES | B2: Criterios | C2: Peso | D2: Puntuación | E2: Comentarios | F2: Puntuación | G2: Comentarios | H2: Puntuación | I2: Comentarios | J2: Puntuación | K2: Comentarios | L2: Puntuación | M2: Comentarios | N2: Puntuación | O2: Comentarios | P2: Puntuación | Q2: Comentarios
A3: =+Gral!A3 -> 2. CUALIFICACIÓN Y EXPERIENCIA PROFESIONAL Y DOCENTE (60%)
A4: Se valorará la cualificación y experiencia profesional de la persona designada como consultor/a de referencia del contrato a entidades del sector público, así como su experiencia en relación a la impartición de cursos, impartición de clases universitarias, etc., y el número de publicaciones (artículos, libros, etc.) en materia de contratación pública y su participación como colaborador internacional.
A5: =Gral!A4 -> 2.1. Cualificación profesional (20%) | B5: (Máximo 100 puntos antes de aplicar el coeficiente de ponderación). Se valorará la formación especializada en materia de contratación pública de la persona designada como consultor/a de referencia del contrato. Se obtendrá la siguiente puntuación: - Si está en posesión de título de Doctor experto en contratación pública: obtendrá la una puntuación de máxima puntuación:100 puntos. - Si está en posesión de título de máster o equivalente en materia de contratación pública: obtendrá: 75 puntos. Nota: Aunque en este procedimiento no se consideran criterios de Juicios de Valor, los licitadores deberán aportar las titulaciones del consultor/a de forma que se acredite poseer la cualificación profesional del personal adscrito. | D5: 75 | E5: Oferta una Titulación de Máster. La cual la acredita correctamente | F5: 0 | G5: Presenta certificado académico personal del Máster de la Universidad UDIMA "ESPECIALISTA EN CONTRATOS Públicos", pero es un certificado meramente informativo, no tiene firma, ni sellos que avalen la veracidad del documento. NO SE APORTA COPIA DE LA TITULACIÓN DEL MÁSTER. Además según detalles del certificado de calificaciones se trata de un curso "Especialista en contratación pública de 25 Créditos. Para considerarse como equivalente a máster como mínimo se requiere 60 Créditos. SE CONSIDERA QUE LA TITULACIÓN NO ES ADECUADA | H5: 100 | I5: Oferta titulación de Doctor acreditada correctamente por la Universidad de Castilla la Mancha. Adjunta enlace con su tesis doctor al titulada "EL PAPEL ESTRATÉGICO DE LA CONTRATACIÓN PÚBLICA PARA LA CONSECUCIÓN DE POLÍTICAS PÚBLICAS" ACREDITADA CORRECTAMENTE | J5: 100 | K5: Oferta la titulación de Doctor acreditada correctamente | L5: 100 | M5: En su oferta de la cualificación no aporta nada, pero en los documentos aportados se verifica que posee la titulación de Doctor, por lo que se procederá a calificar con la titulación de DOCTOR. | N5: 100 | O5: Oferta la titulación de Doctor acreditada correctamente | P5: 100 | Q5: Oferta la titulación de Doctor acreditada correctamente
A7: =Gral!A5 -> 2.2. Experiencia como Docente (15%) | B7: (Máximo 100 puntos antes de aplicar el coeficiente de ponderación) Se valorará la experiencia docente del consultor/a en materia de contratación pública dirigidas a estudiantes universitarios, personal de empresas y otros públicos, impartidas tanto en entidades del sector público, y demás sectores. Se valorará tomando en cuenta el número de cursos impartidos por el consultor/a. Solo se considerarán aquellos cursos con un número de horas igual o superior a Cuatro (4) horas. Los cursos con un número de horas inferior no serán tomados en cuenta. Nota: Acreditación de los cursos y formación impartida y/o Cartas de colaboración de centros de formación, universidades, etc. O cualquier documentación fehaciente que avalen la formación impartida por el consultor/a. | D7: ='CÁLCULO DE PUNTOS fórmulas'!C7 -> 4.8 | E7: EL LICITADOR OFERTA UN TOTAL DE 13 CURSOS EN MATERIA DE CONTRATACIÓN PÚBLICA, DE LOS CUALES 11 SE CONSIDERAN ADECUADOS, YA QUE LOS CURSOS 3 Y 4 POSEEN UNA DURACIÓN DE IMPARTICIÓN INFERIOR A 4 HORAS. FORMACIÓN: 1. Profesor en “Curso básico de contratación pública”, de 4 horas, impartido al Consorci APROP (noviembre de 2021). 2. Profesor en “Curso avanzado de contratación pública”, de 4 horas, impartido al Consorci APROP (noviembre de 2021). 3. Profesor en Curso sobre contrato menor, de 1 hora (repetido en 5 ocasiones), impartido a EMAYA (durante 2021). Se trata de un curso inferior a 4 horas, por lo que aunque se haya impartido en 5 ocasiones, como se marca en el criterio no se consideraran aquellos cursos con tiempo inferior a 4 horas. NO ADECUADO. 4. Profesor en Curso sobre Nociones básicas de contratación pública, de 3 horas, repetido en 2 ocasiones, impartido a empleados de EMAYA (mayo-junio 2021). Se trata de un curso inferior a 4 horas, por lo que aunque se haya impartido en 2 ocasiones, como se marca en el criterio, no se consideraran aquellos cursos con tiempo inferior a 4 horas. NO ADECUADO. 5. Profesor en el Curso: Curso sobre Contratación Pública, especialmente enfocado para la elaboración de pliegos en los contratos de suministros y servicios (adaptado a la nueva LCSP), 4 Horas, impartido a EMAYA, Grupo III (mayo 2018). 6. Profesor en el Curso: Curso sobre Contratación Pública, especialmente enfocado para la elaboración de pliegos en los contratos de suministros y servicios (adaptado a la nueva LCSP), 4 Horas, impartido a EMAYA, Grupo II (mayo 2018). 7. Profesor en el Curso: Curso sobre Contratación Pública, especialmente enfocado para la elaboración de pliegos en los contratos de obras (adaptado a la nueva LCSP), 4 Horas, impartido a EMAYA, Grupo I (mayo 2018). 8. Profesor en el Curso Avanzado de Contratación Pública, de 7 h, impartido en MERCAPALMA (mayo 2018). 9. Profesor en el Curso de Contratación Pública, de 15 h, impartido en la Agencia de Turismo de las Islas Baleares (2018). Grupo II. 10. Profesor en el Curso de Contratación Pública, de 15 h, impartido en la Agencia de Turismo de las Islas Baleares (2018). Grupo I. 11. Profesor en el Curso de Contratación Pública, de 15 h, impartido en TIC MALLORCA (2018). 12. Profesor en el Curso de Contratación Pública, de 12 h, impartido en MERCAPALMA (septiembre 2017). 13. Profesor en el Curso: Curso sobre Contratación Pública, especialmente enfocado para la elaboración de pliegos, 4 Horas, impartido a EMAYA (2017). Para valorar la adecuación de los cursos se ha solicitado que se acredite la impartición de los mismos, para ello el licitador presenta: - (Cursos 1 y 2) - Se presenta un historial de correos de los 2 primeros cursos entre la empresa Consorci APROP y el licitador, adicionando una factura. Así como programas de cursos: de 6 y 4 horas. - (Cursos 3 y 4) - ESTOS CURSOS SON INFERIORES A 4 HORAS, POR LO QUE NO SE TENDRÁN EN CUENTA PARA EL CALCULO DE LAS PUNTUACIONES. NO ADECUADO AL SER INFERIOR A 4 HORAS. - (Cursos 5, 6,7 y 13) - Se presenta carta por parte de EMAYA que certifica haber recibido formación en Contratación Pública por la empresa ARAÚJO&BENETTI ABOGADOS DURANTE EL AÑO 2017 Y 2018 E FECHAS (30/06/2017, 01/05/2018. 14/05/2018 Y 17/05/2018). -(Cursos 8 y 12) - Se presenta carta de participación de la ESCUELA DE NEGOCIOS HISPANIA - (Cursos 9, 10, y 11) - Se presenta carta por parte de GABINET D´INICIATIVES FORMATIVES SE PRESENTAN UNA TOTAL DE 13 CURSOS DE LOS CUALES 2 NO SE TOMARAN EN CUENTA, PORQUE POSEEN UNA DURACIÓN INFERIOR A 4 HORAS . SE CONSIDERAN UN TOTAL DE 11 CURSOS ≥ 4 HORAS, ACREDITADOS ADECUADAMENTE MEDIANTE FACTURAS, CARTAS Y CERTIFICADOS EXPEDIDAS POR LAS EMPRESAS QUE HAN RECIBIDO LA FORMACIÓN. TOTAL DE CURSOS A VALORAR: 11 CURSOS | F7: ='CÁLCULO DE PUNTOS fórmulas'!D7 -> 13.54 | G7: Oferta 31 cursos acreditados correctamente y superior a 4 horas. - 16 cursos impartidos en la gerencia Municipal de Cultura y Deportes de Santa Lucía, S.A,ACREDITADOS MEDIANTE CERTIFICADOS DE BUENA EJECUCIÓN. - 1 Curso jornadas formativas e informativas sobre la Ley 9/2017, de 8 de noviembre, de Contratos del Sector Público, al personal del Consorcio de Casa África. ACREDITADO CON CERTIFICADO DE BUENA EJECUCIÓN - 1 Curso jornadas formativas e informativas sobre la Ley 9/2017, de 8 de noviembre, de Contratos del Sector Público, en el INSTITUTO INSULAR DE DEPORTES DE GRAN CANARIA. ACREDITADO MEDIANTE CARTA EXPEDIDA POR INSTITUTO. - 1 Curso jornadas formativas e informativas sobre la implantación de la Ley 9/2017, de 8 de noviembre, de Contratos del Sector Público a Mancomunidad Intermunicipal del Sureste de Gran Canaria. ACREDITADO MEDIANTE CERTIFICADO DE BUENA EJECUCIÓN DE LOS SERVICIOS PRESTADOS -1 Curso jornadas formativas e informativas sobre la implantación de la Ley 9/2017, de 8 de noviembre, de Contratos del Sector Público a la Mancomunidad Intermunicipal del Sureste de Gran Canaria. ACREDITADO MEDIANTE CERTIFICADO DE BUENA EJECUCIÓN DE LOS SERVICIOS PRESTADOS - 2 cursos al Ayuntamiento de San Bartolomé de Tirajana en materia de Contratación Pública. ACREDITADO MEDIANTE CERTIFICADO DE BUENA EJECUCIÓN DE LOS SERVICIOS PRESTADOS - 1 CURSO Jornadas formativas e informativas sobre la Ley 9/2017, de 8 de noviembre, de Contratos del Sector Público, en el Ilustre Ayuntamiento de Santa Lucía, con una duración de 25 horas lectivas. CARTA EXPEDIDA POR EL AYUNTAMIENTO ACREDITANDO LA FORMACIÓN - 1 Curso formativo al personal técnico de cara al manejo de la Plataforma de Contratación Electrónica del sector público al CONSORCIO DE LA ZONA FRANCA DE GRAN CANARIA. CARTA EXPEDIDA POR EL CONSORCIO ACREDITANDO LA FORMACIÓN. -1 cursos Jornadas de formativas e informativas sobre la Ley 9/2017, de 8 de noviembre, de contratos del Sector Pública, en el Cabildo Insular de la Gomera + Seminario de 5 horas. Para la acreditación de ambos presenta informe expedido por el Cabildo. - 1 curso Jornadas de formativas en materia de contratación pública al Ayuntamiento de El Paso mediante el contrato del Servicio de Asesoramiento Jurídico y asistencia técnica en materia de contratación pública. ACREDITACIÓN MEDIANTE DECLARACIÓN DE BUENA EJECUCIÓN DE LOS SERVICIOS. - 1 Curso jornadas formativas e informativas sobre la implantación de la Ley 9/2017, de 8 de noviembre, de Contratos del Sector Pública al Ayuntamiento de Tías. ACREDITACIÓN MEDIANTE DECLARACIÓN DE BUENA EJECUCIÓN - 2 Cursos al Cabildo Insular de Lanzarote. ACREDITADO CON CARTA EXPEDIDO POR EL AYUNTAMIENTO DE LANZAROTE -2 CURSOS; Jornada formativas e informativas de la Ley 9/2017, de 8 de noviembre, de contratos del sector público a la entidad Martel&Morales. ACREDITACIÓN CON CERTIFICADO DE BUENA EJECUCIÓN. SE PRESENTAN UNA TOTALIDAD DE 31 CURSOS ACREDITADOS ADECUADAMENTE MEDIANTE CARTAS Y CERTIFICADOS DE BUENA EJECUCIÓN EXPEDIDAS POR LAS EMPRESAS QUE HAN RECIBIDO LA FORMACIÓN. TOTAL DE CURSOS A VALORAR: 31 CURSOS | H7: ='CÁLCULO DE PUNTOS fórmulas'!E7 -> 3.93 | I7: Oferta 9 cursos acreditados correctamente y superior a 4 horas. - Director del Master de Abogacía (2021-Actualidad). Se acompaña certificado expedido por la Universidad San Jorge como Anexo 3. ACREDITADO CON CERTIFICADO DE ACTIVIDAD EMITIDO POR LA UNIVERSIDAD. EN LA UNIVERSIDAD HA IMPARTIDO LOS SIGUIENTES CURSOS: Profesor de Derecho Administrativo del Grado en Derecho y del Doble Grado ADE-Derecho en la Universidad San Jorge (2016-Actualidad). Se acompañan los certificados como Anexo 4. ACREDITADO CON CERTIFICADO DE ACTIVIDAD EMITIDO POR LA UNIVERSIDAD. En este certificado se detalla la actividad laboral desde año 2016-2021, dividido en diferentes cursos impartidos para un total de 5 cursos. - Curso de Contratación Pública (15 noviembre 2021. 5 horas). Ponencias/Lecciones “Los principios de la contratación pública y su aplicación a los fondos next generation”. Diputación Provincial de Zaragoza. Zaragoza. Se acompaña certificado como Anexo 7. ACREDITACIÓN MEDIANTE CERTIFICADO - Curso titulado “Ley de Contratos del Sector Público y las empresas”. Sofejea y Cámara de Comercio de Zaragoza. 18-19 junio 2018. Ejea de los Caballeros (8 horas). Se puede consultar la información del mismo en el siguiente enlace: https://www.sofejea.com/sofejea-y-camara-de-zaragoza-organizan-el-curso-la-nueva-ley-de-contratos-del-sector-publico-y-las-empresas/. - Curso sobre las principales novedades de la nueva Ley de contratos del sector público. Cámara de Comercio de Zaragoza. 11-18 abril. NO SE APORTA DOCUMENTACIÓN ACREDITATIVA - Curso de especialización en derecho administrativo básico impartido en el Real e Ilustre Colegio de Abogados de Zaragoza. Se puede consultar la información del mismo en el siguiente enlace: https://www.reicaz.org/circubol/boleform/20191216.htm. ACREDITADO MEDIANTE CONVOCATORIA DEL CURSO EN LA PÁGINA - Curso de formación en materia de contratación al Instituto Aragonés de Fomento. Se acompaña certificado como Anexo 8. ACREDITACIÓN CON CERTIFICADO EMITIDO POR REAL E ILUSTRE COLEGIO ABOGADOS DE ZARAGOZA SE PRESENTAN 9 CURSOS RELACIONADOS AL OBJETO DEL CONTRATO, ACREDITADOS ADECUADAMENTE MEDIANTE CARTAS Y CERTIFICADOS EXPEDIDAS POR LAS EMPRESAS QUE HAN RECIBIDO LA FORMACIÓN. TOTAL DE CURSOS A VALORAR: 9 CURSOS PRESENTA 9 CURSOS ACREDITADOS CORRECTAMENTE Y QUE SUPERAN UNA FORMACIÓN DE 4 HORAS. | J7: ='CÁLCULO DE PUNTOS fórmulas'!F7 -> 3.93 | K7: Oferta 9 cursos acreditados correctamente mediante relación de los principales cursos impartidos en la Universidad UCM las cuales están acreditadas mediante certificado emitido por la universidad. PRESENTA 9 CURSOS ACREDITADOS CORRECTAMENTE Y SUPERIOR A 4 HORAS. | L7: ='CÁLCULO DE PUNTOS fórmulas'!G7 -> 15.72 | M7: Oferta 41 cursos de los cuales 5 son inferiores a 4 horas, por lo que se consideran 36 cursos adecuados. Experiencia Docente: - 1 Curso Práctico de Licitaciones en Gijón 5 horas a la Empresa Municipal de Aguas de Gijon S.A, enero 2020. ACREDITADO MEDIANTE CERTIFICADO DE SERVICIOS PRESTADOS - 1 curso de 12 horas LOS DÍAS 14 y 15 de noviembre de 2019 a la AUTORIDAD PORTUARIA DE TARRAGONA sobre: “CONTRATACIÓN ELECTRÓNICA OBLIGATORIA, MANEJO DE LA PLATAFORMA DE CONTRATOS DEL SECTOR PÚBLICO” DICIEMBRE 2019. ACREDITADO MEDIANTE CARTA EMITIDA POR LA EMPRESA - 1 curso de 12 horas LOS DÍAS 24 y 25 de noviembre de 2019 a la AUTORIDAD PORTUARIA DE TARRAGONA sobre: “CONTRATACIÓN ELECTRÓNICA OBLIGATORIA, MANEJO DE LA PLATAFORMA DE CONTRATOS DEL SECTOR PÚBLICO” DICIEMBRE 2019. ACREDITADO MEDIANTE CARTA EMITIDA POR LA EMPRESA - 1 curso formativos a las empresas públicas asociadas a lo largo de 2018 con el objeto de acercar a las empresas públicas a la nueva Ley de Contratos del Sector Público y a los procedimientos de licitación electrónica en los cuales el es especialista a la asociación de Empresas Públicas de Medio Ambiente (ANEPMA). ACREDITADO POR CERTIFICADO EMITIDO POR ANEPMA (i) “Como Implantar la nueva Ley de Contratos en las Empresas Públicas Municipales I” 5 horas Rivas Vaciamadrid (ii) Como Implantar la nueva Ley de Contratos en las Empresas Públicas Municipales II” 5 horas Rivas Vaciamadrid - Formación en materia de contratación de 12 horas a la sociedad mercantil municipal Cementerios de Gijón S.A. (CEGISA). ACREDITADA CON CARTA EMITIDA POR CEGISA -Formación en materia de contratación de 12 horas al personal de la sociedad Mercantil Municipal Centro Municipal de Empresas de Gijón, S.A. ACREDITADA CON CARTA EMITIDA POR LA SOCIEDAD - 1 Curso práctico de Licitaciones electrónicas en RIVAMADRID de 10 horas a. ACREDITADO MEDIANTE CERTIFICADO DE BUENA EJECUCIÓN - 2 Cursos de formación en materia de contratación pública de 5 horas cada uno a la Empresa de Servicios y Gestión Empresa de Servicios y Gestión Medioambiental de Puente Genil (EGEMASA). ACREDITADO CON CERTIFICADO DE BUENA EJECUCIÓN - 1 Curso de 12 horas en materia de contratación pública a la Sociedad Mercantil Municipal DIVERTIA GIJON. ACREDITADO MEDIANTE CARTA EMITIDA POR LA SOCIEDAD - 1 Curso de 12 horas en materia de contratación pública a la sociedad mercantil municipal de aguas de Gijón S.A (EMASA), enero 2019. ACREDITADO POR INFORME EMITIDO POR LA SOCIEDAD - Formación de 8 horas de LAS ACTUACIONES DE LAS SOCIEDADES MERCANTILES MUNICIPALES EN MATERIA DE CONTRATACIÓN PÚBLICA TRAS LA ENTRADA EN VIGOR DE LA LEY 9/2017 al Ayuntamiento de GETAFE, MADRID, enero 2019. ACREDITADA CON INFORME EMITIDO POR EL AYUNTAMIENTO - 1 Curso de 12 horas en materia de contratación pública a la Sociedad Mercantil Municipal EMTUSA. ACREDITADA CON INFORME EMITIDO POR LA SOCIEDAD - Formación en materia de contratación pública con una duración de 12 horas la sociedad mercantil municipal Empresa Municipal de Servicios de Medio Ambiente Urbano de Gijón, S.A. (EMULSA). - Formación en materia de contratación pública con una duración de 12 horas a la sociedad mercantil municipal Empresa Municipal de la Vivienda de Gijón, S.L.U. ACREDITADA CON INFORME - Formación en materia de contratación pública con una duración de 8 horas al Ayuntamiento de GETAFE, febrero 2018. ACREDITADA CON INFORME - 3 Cursos formativos a la Empresa Municipal de Mantenimiento de Carmona, S.L. “LIMANCAR” mediante la ejecución del contrato de servicio de asesoría jurídica en contratación pública. ACREDITADO MEDIANTE CERTIFICADO DE BUENA EJECUCIÓN (i) “Ley de Contratos en las Empresas Públicas Municipales y licitación electrónica I” 7 horas Carmona, Sevilla (ii) Ley de Contratos en las Empresas Públicas Municipales y licitación electrónica II 7 horas Carmona, Sevilla (ii) Ley de Contratos en las Empresas Públicas Municipales y licitación electrónica III 5 horas Carmona, Sevilla - 3 Cursos formativos a LIMPIEZA Y MEDIO AMBIENTE DE GETAFE S.A.M (LYMA): (I) Implementación de la nueva LCSP en LYMA (5 HORAS), (II) LICITACIÓN PÚBLICA LOCAL Y CAMBIO A LICITACIÓN ELECTRÓNICA (5 HORAS), (III) SOCIEDADES MERCANTILES MUNICIPALES Y NUEVA LCSP (7 HORAS). ACREDITADO MEDIANTE CERTIFICADO DE BUENA EJECUCIÓN. - 4 Cursos al grupo RENHER en materia de contratación Pública superiores a 4 horas. ACREDITADO MEDIANTE CERTIFICADO EMITIDO POR EL GRUPO - 1 Curso telemático de 5 horas en RECURSOS ESPECIALES EN MATERIA DE CONTRATACIÓN. ANÁLISIS DE RESOLUCIONES, Octubre 2020 al GRUPO RENHER. ACREDITADO MEDIANTE CARTA EMITIDA POR EL GRUPO - 1 curso de 13 horas “RECURSOS ESPECIALES EN MATERIA DE CONTRATACIÓN al GRUPO RENHER, febrero de 2020. ACREDITADO MEDIANTE CARTA EMITIDA POR EL GRUPO - 1 curso formativo sobre "Implementación y práctica de Acuerdos Marco según la Ley de Contratos en el Sector Público (5 horas)" a GETAFE INICIATIVAS (GISA) NOVIEMBRE 20120. ACREDITADO MEDIANTE CERTIFICADO DE FORMACIÓN EMITIDO POR GISA. -1 curso formativos 2020 (i) “Ley de Contratos en las Empresas Públicas Municipales y licitación electrónica I” 5 horas Alcorcón, Madrid al personal de la EMPRESA DE SERVICIOS MUNICIPALES DE ALCORCÓN S.A.U., (ESMASA). ACREDITADO MEDIANTE CERTIFICADO DE SERVICIOS EJECUTADO MEDIANTE EL SERVICIOS JURÍDICOS - 1 curso formativo “Cómo gestionar contratos públicos con menos riesgos de recursos: Análisis de las resoluciones de tribunales contractuales y de los informes de juntas consultivas” (5 horas) a la Fundación Internacional y para Iberoamérica de Administración y Políticas Públicas F.S.P., “FIIAPP” . ACREDITADO POR CERTIFICADO EXPEDIDO POR FIIAPP. - 2 Cursos telemáticos (octubre 2020 y noviembre) de 5 horas cada uno sobre "“RECURSOS ESPECIALES EN MATERIA DE CONTRATACIÓN. ANÁLISIS DE RESOLUCIONES”. ACREDITADO MEDIANTE CARTA EMITIDA POR EL GRUPO (otros organismos) - 2 Cursos telemáticos (octubre 2020 y noviembre) de 5 horas cada uno sobre "“RECURSOS ESPECIALES EN MATERIA DE CONTRATACIÓN. ANÁLISIS DE RESOLUCIONES”. ACREDITADO MEDIANTE CARTA EMITIDA POR EL GRUPO (otros organismos) - 5 cursos de 2 horas 30 minutos en materia de contratación. NO SE TOMARA EN CUENTA AL SER INFERIOR A 4 HORAS. - 1 Curso de formación sobre "“Licitación electrónica, responsable del contrato y aplicación práctica del Pliego de Prescripciones Técnicas y Cuadro de Características Particulares” (5 horas). a la Empresa Municipal de Servicios RIVAMADRID. ACREDITADA MEDIANTE CERTIFICADO DE FORMACIÓN EMITIDO POR RIVAMADRID - Webinar Visión estratégica de la Administración Pública: algunas claves para su implementación en las organizaciones, celebrado el 6 de julio de 2021 de 17:00h a 18:30h. CURSO ATRAVES DE WEBINAR INFERIOR A 4 HORAS, NO ADECUADO. PRESENTA 41 CURSOS DE LOS CUALES 5 SON INFERIORES A 4 HORAS, POR LO QUE SE CONSIDERAN 36 CURSOS ACREDITADOS CORRECTAMENTE Y SUPERIOR A 4 HORAS. TOTAL DE CURSOS A VALORAR: 36 CURSOS | N7: ='CÁLCULO DE PUNTOS fórmulas'!H7 -> 100 | O7: Oferta 229 cursos acreditados correctamente y superior a 4 horas. | P7: ='CÁLCULO DE PUNTOS fórmulas'!I7 -> 22.71 | Q7: Oferta 78 cursos. Presenta un listado con 78 puntos de formación impartida por el consultor pero en realidad se enlistan 77 cursos, ya que hay un salto de 1 número en la lista. De los 77 cursos presentados, en la lista de los primeros 22, 20 de ellos no corresponden al objeto del contrato, de los 51 cursos impartido en la XVI edición del Diploma de Especialización en Derecho Local de Aragón 47 se acreditan adecuadamente. Los 3 impartidos en la GENERALITAT VALENCIA se acreditan correctamente. SE ACREDITAN 52 CURSO DE LOS 78 OFERTADOS. EXPERIENCIA DOCENTE 1- Presenta una primera relación de 22 curso de los cuales solo 2 se relacionan con el objeto del contrato - Régimen jurídico de la contratación pública (2019-2020). - Régimen jurídico de la Contratación Pública.(2020-2021). 2- La otra relación es desde el punto 23 hasta 75, al saltarse un numero de la lista (desde 25 al 27) el numero real es de 51 CURSOS IMPARTIDOS MEDIANTE LAS ACTIVIDADES DOCENTES DESARROLLADA XVI edición del Diploma de Especialización en Derecho Local de Aragón, al realizar la verificación que se realiza mediante CARTA POR LA UNIVERSIDAD DE ZARAGOZA, se ha detectado que en ella solo lo constan 47 cursos de 51. EN ESTE SENTIDO EN ESTE PUNTO CORRESPONDE 47 CURSOS. - Procedimiento de adjudicación de contratos públicos, 2006. Zaragoza. - Contratación Pública electrónica, 2006, Zaragoza -Procedimientos de adjudicación de contratos públicos, 2006, Huesca. - Contratación Pública electrónica, Huesca, 2006. - Procedimientos de adjudicación de contratos públicos, Teruel, 2006 - Contratación Pública electrónica, 2006, Teruel. - Procedimientos de adjudicación de contratos públicos, 2007, Huesca. -Contratación Pública electrónica, Huesca, 2007. -Procedimientos de adjudicación de contratos públicos, Teruel, 2007. -Contratación Pública electrónica, 2007, Teruel. - Procedimiento de adjudicación de contratos públicos, 2008, Zaragoza -Contratación Pública electrónica, Huesca, 2008. -Procedimientos de adjudicación de contratos públicos, Teruel, 2008. -Contratación Pública electrónica, 2008, Teruel. -Procedimiento de adjudicación de contratos públicos, 2009, Zaragoza -Contratación Pública electrónica, 2009, Zaragoza. -Procedimientos de adjudicación de contratos públicos, 2009, Huesca. -Contratación Pública electrónica, Huesca, 2009. -Procedimiento de adjudicación de contratos públicos, 2010, Zaragoza -Contratación Pública electrónica, 2010, Zaragoza. -Procedimientos de adjudicación de contratos públicos, 2010, Huesca. -Contratación Pública electrónica, Huesca, 2010. -Procedimiento de adjudicación de contratos públicos, 2011, Zaragoza -Contratación Pública electrónica, 2011, Zaragoza. -Procedimientos de adjudicación de contratos públicos, 2011, Huesca. -Contratación Pública electrónica, Huesca, 2011. -Procedimiento de adjudicación de contratos públicos, 2012 Zaragoza -Contratación Pública electrónica, 2012, Zaragoza. -Procedimientos de adjudicación de contratos públicos, 2012, Huesca. -Contratación Pública electrónica, Huesca, 2012. -Procedimiento de adjudicación de contratos públicos, 2013, Zaragoza -Contratación Pública electrónica, 2013, Zaragoza. -Procedimientos de adjudicación de contratos públicos, 2013, Huesca. -Contratación Pública electrónica, Huesca, 2013. -Procedimiento de adjudicación de contratos públicos, 2014 Zaragoza -Contratación Pública electrónica, 2014, Zaragoza. -Procedimientos de adjudicación de contratos públicos, 2014, Huesca. -Contratación Pública electrónica, Huesca, 2014. -Procedimiento de adjudicación de contratos públicos, 2015 Zaragoza -Contratación Pública electrónica, 2015, Zaragoza. -Procedimientos de adjudicación de contratos públicos, 2015, Huesca. -Contratación Pública electrónica, Huesca, 2015. -Contratación Pública electrónica, Zaragoza, 2016. -Contratación Pública electrónica, Zaragoza, 2017. -Contratación Pública electrónica, Zaragoza, 2018. -Contratación Pública electrónica, Zaragoza, 2019. -Contratación Pública electrónica, Zaragoza, 2020. -Contratación Pública electrónica, Zaragoza, 2021. 3- FORMACIONES A LA GENERALITAT VALENCIA IMPARTIDO MEDIANTE EL CONTRATO "servicios referidos a “FORMACIÓN A FUTUROS LICITADORES EN LA PLATAFORMA DE CONTRATACIÓN DEL SECTOR PÚBLICO” Expediente MENOR/2021/09N01/39". ACREDITADO MEDIANTE CERTIFICADO DE BUENA EJECUCIÓN - Contratación Pública electrónica 2021-2022. - Módulo elaboración de pliegos. 2021-2022 -Tutorización formativa en manejo de la Plataforma de Contratación del Sector Público (160 h). SE VERICA Y COMPRUEBA UN TOTAL DE 52 CURSOS RELACIONADOS CON EL OBJETO DEL CONTRATO Y ACREDITADOS CORRECTAMENTE DE LOS OFERTADOS. TOTAL DE CURSOS A VALORAR: 52 CURSOS
A10: =Gral!A6 -> 2.3. Experiencia profesional adicional a la exigida en PPT como asesor en materia de contratación pública (15%) | B10: (Máximo 100 puntos antes de aplicar el coeficiente de ponderación) Se valorará la experiencia profesional adicional de los 10 años mínimos de experiencia solicitados en el PPT del consultor/a en asesoría y consultoría en materia de contratación pública a entidades del sector público y otros sectores. Se otorgarán 100 puntos a la propuesta que ofrezca una mayor experiencia, el resto de ofertas recibirán una puntuación proporcional mediante la fórmula. Nota: Para acreditar la experiencia del consultor/a se deberá entregar un Breve currículum vitae en el que se destaquen los trabajos similares a los del objeto del contrato. - Un (1) Consultor/a jurídico especializado en la materia contratación pública: Colegiado como abogado ejerciente, con experiencia de al menos Diez (10) años demostrable, relacionado con el objeto del contrato, en especial en el asesoramiento a administraciones públicas en materia de contratación pública. Se valorará que este en posesión de un máster habilitante o doctorado con especialidad en contratación pública. | D10: 0 | E10: El licitador oferta 0 años de experiencia adicionales. A continuación se detallan los años de experiencia presentados: - Abogado fundador en Araújo&Benetti, Abogados, Palma de Mallorca (www.araujobenetti.com), Enero 2015 – Actualidad. Que correspondería a 7 años y 2 meses de experiencia (7.16 años). Se hace una descripción de los trabajos que desempeña, por lo que con los datos presentados no se puede verificar si en este tiempo se ha desempeñado funciones de contratación pública o de derecho administrativo. - Abogado en Cuatrecasas, Gonçalves Pereira, Madrid, Septiembre 2009 – Diciembre 2014. Que correspondería a 5 años y 3 meses (5.25 años). Se hace una descripción de los trabajos que desempeña, por lo que con los datos presentados no se puede verificar si en este tiempo se ha desempeñado funciones de contratación pública o de derecho administrativo. En este sentido, se admite los 0 años de experiencias ofertados por el licitador, al no concretarse específicamente los años de experiencia en materia de contratación pública en CV. | F10: ='CÁLCULO DE PUNTOS fórmulas'!D9 -> 71.43 | G10: Oferta 5 años de experiencia adicional. En el Currículo y hoja de vida laboral que certifican 15 años de experiencia, de los que correspondería una experiencia adicional de 5 años. - 2016-actualidad: 6 años Experiencia relacionada con el objeto del contrato - 2007-2016: 9 años de experiencia relacionada con el objeto del contrato Se comprueba que los 5 años de experiencia adicional ofertados son coherentes al CV y hoja de vida laboral. | H10: ='CÁLCULO DE PUNTOS fórmulas'!E9 -> 0 | I10: Oferta un total de 11 años de experiencia adicional pero en el documento donde presenta la experiencia profesional, se presenta sin detallar los años en los que ha desarrollado las funciones en materia de contratación en las instituciones que recoge, por lo que no se puede deducir los años de experiencias adicionales a los 10 años mínimos exigidos en el PPT. Al no contarse con los datos necesarios para la comprobación de los años de experiencia adicional, se procede a puntuar cero. NO SE CUENTA CON LA INFORMACIÓN NECESARIA PARA CUANTIFICAR LOS AÑOS ADICIONALES DE EXPERIENCIA DEL LICITADOR. -0 AÑOS DE EXPERIENCIA ADICIONAL | J10: ='CÁLCULO DE PUNTOS fórmulas'!F9 -> 0 | K10: Presenta su trayectoria profesional desde 1995-2012. Así como un apartado especificando su experiencia en materia de contratación pública. En el cual presenta una relación de los trabajos realizados, en algunos detalla la fecha de inicio-fin y en otros, solo una fecha, por lo que se hace difícil cuantificar la experiencia exacta en materia de contratación pública. En este sentido, no se puede deducir con exactitud la experiencia del licitador, ya que la relación de los trabajos en materia de contratación pública se presenta sin especificar en algunos de ellos las fechas de inicio y fin. Para una estimanción en base a aquellos trabajos que si detallan la fecha de inicio-fin, se ha procedido a valorar la experiencia en base a estas fechas dando por sentado los trabajos durante el año reseñado, lo que correspondería a: - 2008-2013: 5 años de experiencia - 2016- 2020: 4 años Dando como resultado 0 años de experiencia adicional y incumpliendo la experiencia minima requerida. NO SE PRESENTA DE FORMA ADECUADA LOS AÑOS DE EXPERIENCIA EN MATERIA DE CONTRATACIÓN PÚBLICA. -0 AÑOS DE EXPERIENCIA ADICIONAL | L10: ='CÁLCULO DE PUNTOS fórmulas'!G9 -> 0 | M10: Oferta 4 años de experiencia adicional pero al revisar el CV se detecta una experiencia de 10 años relacionada con el objeto del contrato, por lo que no hay ninguna experiencia adicional. EXPERIENCIA: - Diciembre 2015- Actualidad. Responsable Asesoría Jurídica LYMA Getafe Sociedad Anónima Municipal. Ayuntamiento de Getafe/Contratación Pública Asesor Jurídico Dirección General, Dirección de RR.HH., Dirección de Producción, Dirección de Compras ( 7 AÑOS DE EXPERIENCIA RELACIONADO CON EL OBJETO DEL CONTRATO). - Abril 2013- Actualidad.-/Van Beveren Abogados. Especializado en Contratación Pública. ESPECIALISTA EN PANAPS participados por entidades locales Asesoramiento legal de empresas públicas (contratación, preparación de pliegos administrativos, asesoramiento en licitaciones públicas y preparación de cursos de formación) - (2 AÑOS desde 2013-2015 RELACIONADA CON EL OBJETO DEL CONTRATO). - Enero 2012- Abril 2013-. Abogado. MAIO Legal Abogados. Especializado en Derecho Mercantil y Administrativo. Asesoramiento en licitaciones públicas a operadores económicos. (1 AÑO + 3 MESES RELACIONADA CON EL OBJETO DEL CONTRATO) - 2007-2011 Cocinante, S.L. Socio fundador de la sociedad dedicada a prospección de servicios del sector Hostelería. (Gestión de la compañía/ Contratación de empleados /Organización de planes de trabajo Elaboración de planes financieros anuales /Estudios y análisis de inversiones en publicidad y marketing). (4 AÑOS, NO SE RELACIONA CON EL OBJETO DEL CONTRATO). - 2003-2007. Abogado. Castro, Sueiro & Varela (Firma incorporada actualmente a KPMG, Abogados España). Derecho Administrativo y Financiero. (4 AÑOS). NO SE RELACIONA AL OBJETO DEL CONTRATO - 2000-2003. Abogado. Clarke, Modet & Cº Propiedad Industrial e Intelectual. (3 AÑOS, NO SE RELACIONA CON EL OBJETO DEL CONTRATO). SE ESTIMA UNA EXPERIENCIA RELACIONADA CON EL OBJETO DEL CONTRATO DE 10 AÑOS Y 3 MESES. | N10: ='CÁLCULO DE PUNTOS fórmulas'!H9 -> 100 | O10: Oferta 7 años de experiencia adicional, la cual ha sido verificada y coincide con CV Presenta la siguiente experiencia: Desde 2004-Actualidad: - experiencia en contratación pública, como funcionario (2004-2016): Comienzo de la prestación como responsable jurídico del área de proyectos estratégicos y obras y conservación del Ayuntamiento de Pamplona en 2004. 12 AÑOS.: (2 años adicionales). Labores de redacción de pliegos, informes, defensa letrada en pleitos etc..(12 AÑOS DE EXPERIENCIA RELACIONADO CON EL OBJETO DEL CONTRATO) - Vocal del Tribunal Administrativo de contratos públicos de Navarra. 2013 – 2016 (EXPERIENCIA DENTRO DE LOS AÑOS YA CALCULADOS, RELACIONADO CON EL OBJETO DEL CONTRATO). - 2013 – 2016: Secretario de la Comisión de Vigilancia de la Contratación del Ayuntamiento de Pamplona, Pamplona. Actualmente FUNCIONARIO EXCEDENTE.(EXPERIENCIA DENTRO DE LOS AÑOS YA CALCULADOS, RELACIONADO CON EL OBJETO DEL CONTRATO). - 2013 – 2016: Técnico Comisión de Sociedad de la Información y Nuevas Tecnologías de la Federación Española de Municipios y Provincias (FEMP), Madrid. Cargo: Miembro del grupo técnico.(EXPERIENCIA DENTRO DE LOS AÑOS YA CALCULADOS, NO RELACIONADO CON EL OBJETO DEL CONTRATO). - 2009 – septiembre 2016: Secretario General del Ayuntamiento de Pamplona, Pamplona. Cargo: Suplente del Sr. Secretario General - Desde 2016 a la actualidad : (6 AÑOS ADICIONALES) autónomo y administrador único de FRANCISCO JAVIER VAZQUEZ MATILLA SL. Al estar en curso el año 2022, serñian 5 años y algunos meses. - Desde 2021 además, Director General de Lexlab innovación legal: despacho especializado en compra de innovación y compras complejas.(EXPERIENCIA DENTRO DE LOS AÑOS YA CALCULADOS, NO RELACIONADO CON EL OBJETO DEL CONTRATO). SE ESTIMA UNA EXPERIENCIA DE 17 AÑOS Y PAR DE MESES RELACIONADAS CON EL OBJETO DEL CONTRATO. POR LO QUE SE VERIFICA Y COMPRUEBA LA EXPERIENCIA ADICIONAL DE 7 AÑOS. | P10: ='CÁLCULO DE PUNTOS fórmulas'!I9 -> 100 | Q10: Oferta 19 años de experiencia adicional de los 10 años exigidos en el PPT. Al realizar la verificación se ha estimado una experiencia total del licitador de 17 años (desde enero 2005 hasta la actualidad). Se trata de insertar en el criterio los años de experiencia adicionales a los exigidos en el PPT (10 años). En este sentido los años de experiencia adicionales al objeto del contrato corresponde a 7 años. EXPERIENCIA MOSTRADA EN CV: Según CV posee 19 años de experiencia en asesoramiento en materia de contratación pública. Sin embargo la relación de trabajos datan desde 2005 a la fecha, corresponde a una experiencia de 17 años. Señala que sobre los periodos 2005-2010 recibió (Reconocimiento de dos sexenios de investigación por la Agencia de Calidad y Prospectiva Universitaria de Aragón y por la Agencia Nacional de Evaluación de la Calidad (ANECA) que no es objeto de valoración en este criterio. - En el ámbito académico cuenta con más de 60 publicaciones y tres tramos de investigación reconocidos (Reconocimiento de dos sexenios de investigación por la Agencia de Calidad y Prospectiva Universitaria de Aragón y por la Agencia Nacional de Evaluación de la Calidad (ANECA) sobre los períodos 2005-2010 y 2011-2016. - Ha sido director General de Contratación, Patrimonio y Organización del Gobierno de Aragón desde el 8 de agosto de 2015 hasta el 30 de agosto de 2019. En el ejercicio de sus funciones participó en la tramitación de: • Expedientes de contratación • Recursos especiales en materia de contratación. - Presidente de la Junta Consultiva de Contratación Administrativa de la Comunidad Autónoma de Aragón (2015-2019), habiendo participado en la elaboración y deliberación de más de 70 informes de dicho órgano consultivo. (CORRESPONDE A LOS MISMOS AÑOS ANTERIORES), ASÍ COMO: - Presidente del Foro de Contratos Públicos de la Comunidad Autónoma de Aragón (2017-2019). • Presidente de la Comisión de Contratación Centralizada de la Comunidad Autónoma de Aragón (2017-2019). • Presidente de la Junta de Reclamaciones Económico Administrativas de la Comunidad Autónoma de Aragón (2015-2019). -Muestra unas lista de Principales trabajos destacados ejecutados/en ejecución relacionado con el objeto del contrato con fecha de inicio-fin que datan desde 2005 hasta 2024. Pero como se evalúan los años de experiencia actuales corresponde valorar desde el año 2005 hasta 2022, POR LO QUE CORRESPONDERÍA A UNA EXPERIENCIA DE 17 AÑOS EN MATERIA DE CONTRATACIÓN PÚBLICA. SE ESTIMA UNA EXPERIENCIA DE 17 AÑOS RELACIONADAS CON EL OBJETO DEL CONTRATO. POR LO QUE CORRESPONDERÍA A 7 AÑOS COMO EXPERIENCIA ADICIONAL. NOTA: SE VALORA LOS AÑOS DE EXPERIENCIA ADICIONALES RELACIONADOS CON EL OBJETO DEL CONTRATO Y LA EXPERIENCIA TOTAL, SOLO LA ADICIONAL A LA EXIGIDA EN EL PPT (10 AÑOS). | T10: =2022-2005 -> 17
