Workbook
Name ColumnTitleRegion2..G14.1: [1]Presupuesto!#REF!
Name OLE_LINK2: PRESUPUESTO!$C$21
Name TítuloColumna1: [1]!Presupuesto[[#Headers],[CANTIDAD]]
Name TítuloColumna1: [1]!Presupuesto[[#Headers],[CANTIDAD]]

Sheet PRESUPUESTO
A1: LOTE 1 | C1: EIVISSA Y LA SAVINA
A2: 1 | C2: ESTACIÓN MARÍTIMA BOTAFOC
A3: 01.01 | B3: m | C3: Bancada 5plazas + 1 asiento PMR
C4: Suministro e instalación de Bancada de Espera del mismo modelo que las existentes
C5: de 5 plazas más 1 asiento para persona con movilidad reducida (PMR), totalizando 6
C6: plazas por unidad. Las bancadas serán de asiento y respaldo en poliuretano color negro,
C7: con estructura aluminizada. Incluye asiento minusválido y brazos en los extremos.
C8: El servicio incluye la entrega del mobiliario en la Estación Marítima de Botafoc,
C9: la reubicación y movimiento de las bancadas existentes en la misma terminal,
C10: el montaje completo de las bancadas nuevas y su instalación en la ubicación
C11: final designada por la APB.
C12: En esta partida se incluyen todos los posibles gastos indirectos
C13: subyacentes de la propia partida. También se incluyen todos aquellos
C14: materiales, elementos, accesorios, medios (mecánicos, humanos) y
C15: recursos necesarios para su total puesta en servicio y ayudas
... C20: Descomposición
C21: mo087 | D21: h | E21: Ayudante instalador. | F21: 4 | G21: 21.94 | H21: =+F21*G21 -> 87.76
C22: mt26dbe010a | D22: m | E22: Bancada 5 plazas + 1 asiento PMR | F22: 1 | G22: 4895.97 | H22: =+F22*G22 -> 4895.97
C23: 5 | D23: % | E23: Costes indirectos | F23: =SUM(H21:H22) -> 4983.73 | G23: 0.05 | H23: =+F23*G23 -> 249.1865
C24: %2PM | D24: % | E24: Pequeño material | F24: =SUM(H21:H23) -> 5232.9165 | G24: 0.02 | H24: =+F24*G24 -> 104.65833
C25: %6MA | D25: % | E25: Medios auxiliares | F25: =SUM(H21:H24) -> 5337.5748 | G25: 0.06 | H25: =+F25*G25 -> 320.25449
C26: %GG | D26: % | E26: Gastos generales (13%) | F26: =SUM(H21:H25) -> 5657.8293 | G26: 0.13 | H26: =+F26*G26 -> 735.51781
C27: %BI | D27: % | E27: Beneficio industrial (6%) | F27: =SUM(H21:H25) -> 5657.8293 | G27: 0.06 | H27: =+F27*G27 -> 339.46976
H28: =SUM(H21:H27) -> 6732.8169
C29: Medición | D29: UDS | E29: LONGITUD | F29: ANCHURA | G29: ALTURA
C30: Sala D.1.6 | D30: 10 | F30: 10
C31: Sala D.1.7 | D31: 10 | F31: 10
C32: Hall principal | D32: 6 | F32: 6
C33: Subtotal | D33: 26
F34: 26 | G34: =+H28 -> 6732.8169 | H34: =+F34*G34 -> 175053.24
A35: 01.02 | B35: m | C35: Bancada 2 plazas + 1 asiento PMR
C36: Suministro e instalación de Bancada de Espera del mismo modelo que las existentes
C37: de 2 plazas más 1 asiento para persona con movilidad reducida (PMR), totalizando 3
C38: plazas por unidad. Las bancadas serán de asiento y respaldo en poliuretano color negro,
C39: con estructura aluminizada. Incluye asiento minusválido y brazos en los extremos.
C40: El servicio incluye la entrega del mobiliario en la Estación Marítima de Botafoc,
C41: la reubicación y movimiento de las bancadas existentes en la misma terminal,
C42: el montaje completo de las bancadas nuevas y su instalación en la ubicación
C43: final designada por la APB.
C44: En esta partida se incluyen todos los posibles gastos indirectos
...

Sheet PROPOSICION ECONOMICA L1
A1: Plantilla de autocálculo para la presentación de ofertas del expediente
A2: INV25-0117:” ADQUISICIÓN E INSTALACIÓN DE UN SISTEMA MODULAR DE BANCADAS PARA LAS ESTACIONES MARÍTIMAS DE EIVISSA, LA SAVINA Y MAÓ DE LA AUTORIDAD PORTUARIA DE BALEARES
A5: PROPOSICIÓN ECONÓMICA LOTE 1
A6: Rellene únicamente las celdas en blanco.
A8: EMPRESA LICITADORA:
A11: Nº | B11: DESCRIPCIÓN | C11: Medición de licitación | D11: Precio de licitación | E11: Importe licitación | F11: Precio ofertado | G11: Importe ofertado
A12: 1 | B12: LOTE 1: EIVISSA Y LA SAVINA
A13: 1.1 | B13: =+PRESUPUESTO!C2 -> ESTACIÓN MARÍTIMA BOTAFOC
A14: 1.1.01 | B14: =+PRESUPUESTO!C3 -> Bancada 5plazas + 1 asiento PMR | C14: =+PRESUPUESTO!F34 -> 26 | D14: =+PRESUPUESTO!G34 -> 6732.8169 | E14: =ROUND(C14*D14,2) -> 175053.24 | F14: 0 | G14: =IF(F14>D14,F14/0,ROUND(C14*F14,2)) -> 0
A15: 1.1.02 | B15: =+PRESUPUESTO!C35 -> Bancada 2 plazas + 1 asiento PMR | C15: =+PRESUPUESTO!F64 -> 20 | D15: =+PRESUPUESTO!G64 -> 3840.7235 | E15: =ROUND(C15*D15,2) -> 76814.47 | F15: 0 | G15: =IF(F15>D15,F15/0,ROUND(C15*F15,2)) -> 0
A16: 1.2 | B16: =+PRESUPUESTO!C66 -> ESTACIÓN MARÍTIMA LA SAVINA (FORMENTERA)
A17: 1.2.01 | B17: =+PRESUPUESTO!C67 -> Bancada 3 plazas + 1 asiento PMR | C17: =+PRESUPUESTO!F96 -> 9 | D17: =+PRESUPUESTO!G96 -> 4736.4096 | E17: =ROUND(C17*D17,2) -> 42627.69 | F17: 0 | G17: =IF(F17>D17,F17/0,ROUND(C17*F17,2)) -> 0
A18: 1.2.02 | B18: =+PRESUPUESTO!C97 -> Bancada 2 plazas + 1 asiento PMR | C18: =+PRESUPUESTO!F126 -> 1 | D18: =+PRESUPUESTO!G126 -> 3840.72 | E18: =ROUND(C18*D18,2) -> 3840.72 | F18: 0 | G18: =IF(F18>D18,F18/0,ROUND(C18*F18,2)) -> 0
E19: =SUM(E14:E18) -> 298336.12 | G19: =IF(SUM(G12:G18)=20000,0,SUM(G12:G18)) -> 0
A21: TOTAL PROPOSICIÓN ECONÓMICA DEL LICITADOR (sin IVA): | F21: =IF(G19<=E19,G19,"ERROR: Límite superado") -> 0
A22: ATENCIÓN: La cifra que debe introducir en la plataforma de contratación es esta ↗

Sheet PROPOSICION ECONOMICA L2
A1: Plantilla de autocálculo para la presentación de ofertas del expediente
A2: INV25-0117:” ADQUISICIÓN E INSTALACIÓN DE UN SISTEMA MODULAR DE BANCADAS PARA LAS ESTACIONES MARÍTIMAS DE EIVISSA, LA SAVINA Y MAÓ DE LA AUTORIDAD PORTUARIA DE BALEARES
A5: PROPOSICIÓN ECONÓMICA LOTE 2
A6: Rellene únicamente las celdas en blanco.
A8: EMPRESA LICITADORA:
A11: Nº | B11: DESCRIPCIÓN | C11: Medición de licitación | D11: Precio de licitación | E11: Importe licitación | F11: Precio ofertado | G11: Importe ofertado
A12: 2 | B12: LOTE 2: MAÓ
A13: 2.1 | B13: =+PRESUPUESTO!C132 -> ESTACIÓN MARÍTIMA MAÓ
A14: 2.1.1 | B14: =+PRESUPUESTO!C133 -> Bancada 3 plazas + 1 asiento PMR | C14: =+PRESUPUESTO!F162 -> 15 | D14: =+PRESUPUESTO!G162 -> 4736.4096 | E14: =ROUND(C14*D14,2) -> 71046.14 | F14: 0 | G14: =IF(F14>D14,F14/0,ROUND(C14*F14,2)) -> 0
E15: =SUM(E12:E14) -> 71046.14 | G15: =IF(SUM(G12:G14)=20000,0,SUM(G12:G14)) -> 0
A17: TOTAL PROPOSICIÓN ECONÓMICA DEL LICITADOR (sin IVA): | F17: =IF(G15<=E15,G15,"ERROR: Límite superado") -> 0
A18: ATENCIÓN: La cifra que debe introducir en la plataforma de contratación es esta ↗
